BEGIN:VCALENDAR
VERSION:2.0
PRODID:-// - ECPv6.15.20//NONSGML v1.0//EN
CALSCALE:GREGORIAN
METHOD:PUBLISH
X-ORIGINAL-URL:https://www.asta.uni-siegen.de
X-WR-CALDESC:Veranstaltungen für 
REFRESH-INTERVAL;VALUE=DURATION:PT1H
X-Robots-Tag:noindex
X-PUBLISHED-TTL:PT1H
BEGIN:VTIMEZONE
TZID:Europe/Berlin
BEGIN:DAYLIGHT
TZOFFSETFROM:+0100
TZOFFSETTO:+0200
TZNAME:CEST
DTSTART:20180325T010000
END:DAYLIGHT
BEGIN:STANDARD
TZOFFSETFROM:+0200
TZOFFSETTO:+0100
TZNAME:CET
DTSTART:20181028T010000
END:STANDARD
BEGIN:DAYLIGHT
TZOFFSETFROM:+0100
TZOFFSETTO:+0200
TZNAME:CEST
DTSTART:20190331T010000
END:DAYLIGHT
BEGIN:STANDARD
TZOFFSETFROM:+0200
TZOFFSETTO:+0100
TZNAME:CET
DTSTART:20191027T010000
END:STANDARD
BEGIN:DAYLIGHT
TZOFFSETFROM:+0100
TZOFFSETTO:+0200
TZNAME:CEST
DTSTART:20200329T010000
END:DAYLIGHT
BEGIN:STANDARD
TZOFFSETFROM:+0200
TZOFFSETTO:+0100
TZNAME:CET
DTSTART:20201025T010000
END:STANDARD
END:VTIMEZONE
BEGIN:VEVENT
DTSTART;TZID=Europe/Berlin:20190704T140000
DTEND;TZID=Europe/Berlin:20190704T140000
DTSTAMP:20260423T001918
CREATED:20190612T085344Z
LAST-MODIFIED:20190626T080818Z
UID:10257-1562248800-1562248800@www.asta.uni-siegen.de
SUMMARY:Sommerfest der Verfassten Studierendenschaft
DESCRIPTION:Das diesjährige Sommerfest der Verfassten Studierendenschaft findet am 04.07.2019 ab 14 Uhr am Hölderlin Campus auf dem Pausenhof statt. \nProgramm\nBeginn 14:00 Uhr\n16:00 Uhr: Offene Bühne mit Programm von Studierenden*\n17:00 Uhr: Max Mustermann und die 0815 Musiker*innen\n18:00 Uhr: Trick und Masche\, deutschsprachiger\,\npolitischer Punkrock aus der Region\n19:00 Uhr: Dote\, pure original Indie\n20:00 Uhr: Mola\, Newcomerin aus dem Nonpopgenre\nab 22:00 Uhr: After-Show-Party im Glücks Pils oder KultKaff \nGetränke 1\,50 €\nGrills und Kohle werden gestellt\, Grillgut selbst mitbringen. \n* für die Offene Bühne könnt ihr euch noch anmelden. Schickt uns einfach eine Mail an asta@uni-siegen.de \n_ \nThis years student summer party takes places on the 4th of July at Hölderliin Campus\, Pausenhof. \nprogramme\nstart 2pm\n4pm: Open Stage\, students present their talents (i.e. sing\, dance..)*\n5pm: Max Mustermann und die 0815 Musiker*innen\n6pm: Trick und Masche\, german political punk rock\n7pm: Dote\, pure original indie\n8pm: Mola\, Newcomer from the non-pop genre\n10pm: After-Show-Party in Glücks Pils or KultKaff \ndrinks 1\,50 €\nBBQ-grills and charcoal are provided. Bring Your Own BBQ-Food \n* You can still apply for the Open Stage. Contact us for asta@uni-siegen.de
URL:https://www.asta.uni-siegen.de/index.php/termin_der_vs/sommerfest-der-verfassten-studierendenschaft/
LOCATION:Hölderlin Pausenhof\, Hölderlinstraße 3\, 57076 Siegen\, Siegen\, 57076\, Deutschland
ORGANIZER;CN="AStA der Uni Siegen":MAILTO:asta@uni-siegen.de
END:VEVENT
END:VCALENDAR