BEGIN:VCALENDAR
VERSION:2.0
PRODID:-// - ECPv6.15.20//NONSGML v1.0//EN
CALSCALE:GREGORIAN
METHOD:PUBLISH
X-ORIGINAL-URL:https://www.asta.uni-siegen.de
X-WR-CALDESC:Veranstaltungen für 
REFRESH-INTERVAL;VALUE=DURATION:PT1H
X-Robots-Tag:noindex
X-PUBLISHED-TTL:PT1H
BEGIN:VTIMEZONE
TZID:Europe/Berlin
BEGIN:DAYLIGHT
TZOFFSETFROM:+0100
TZOFFSETTO:+0200
TZNAME:CEST
DTSTART:20240331T010000
END:DAYLIGHT
BEGIN:STANDARD
TZOFFSETFROM:+0200
TZOFFSETTO:+0100
TZNAME:CET
DTSTART:20241027T010000
END:STANDARD
BEGIN:DAYLIGHT
TZOFFSETFROM:+0100
TZOFFSETTO:+0200
TZNAME:CEST
DTSTART:20250330T010000
END:DAYLIGHT
BEGIN:STANDARD
TZOFFSETFROM:+0200
TZOFFSETTO:+0100
TZNAME:CET
DTSTART:20251026T010000
END:STANDARD
BEGIN:DAYLIGHT
TZOFFSETFROM:+0100
TZOFFSETTO:+0200
TZNAME:CEST
DTSTART:20260329T010000
END:DAYLIGHT
BEGIN:STANDARD
TZOFFSETFROM:+0200
TZOFFSETTO:+0100
TZNAME:CET
DTSTART:20261025T010000
END:STANDARD
END:VTIMEZONE
BEGIN:VEVENT
DTSTART;VALUE=DATE:20250610
DTEND;VALUE=DATE:20250624
DTSTAMP:20260424T003656
CREATED:20250605T095351Z
LAST-MODIFIED:20250611T122903Z
UID:17455-1749513600-1750723199@www.asta.uni-siegen.de
SUMMARY:Wahl des Senats\, der Fakultätsräte und der Gleichstellungskommission (Link)
DESCRIPTION:Unter diesem Link kommt ihr zum Wahlportal: https://www.uni-siegen.de/start/die_universitaet/organisation/universitaere_gremien/wahlen/
URL:https://www.asta.uni-siegen.de/index.php/termin_der_vs/wahl-des-senats-der-fakultaetsraete-und-der-gleichstellungskommission/
END:VEVENT
BEGIN:VEVENT
DTSTART;VALUE=DATE:20250613
DTEND;VALUE=DATE:20250628
DTSTAMP:20260424T003656
CREATED:20250605T093939Z
LAST-MODIFIED:20250605T093939Z
UID:17453-1749772800-1751068799@www.asta.uni-siegen.de
SUMMARY:Urabstimmung Semesterticket
DESCRIPTION:
URL:https://www.asta.uni-siegen.de/index.php/termin_der_vs/urabstimmung-semesterticket/
END:VEVENT
END:VCALENDAR