BEGIN:VCALENDAR
VERSION:2.0
PRODID:-// - ECPv6.15.20//NONSGML v1.0//EN
CALSCALE:GREGORIAN
METHOD:PUBLISH
X-ORIGINAL-URL:https://www.asta.uni-siegen.de
X-WR-CALDESC:Veranstaltungen für 
REFRESH-INTERVAL;VALUE=DURATION:PT1H
X-Robots-Tag:noindex
X-PUBLISHED-TTL:PT1H
BEGIN:VTIMEZONE
TZID:Europe/Berlin
BEGIN:DAYLIGHT
TZOFFSETFROM:+0100
TZOFFSETTO:+0200
TZNAME:CEST
DTSTART:20240331T010000
END:DAYLIGHT
BEGIN:STANDARD
TZOFFSETFROM:+0200
TZOFFSETTO:+0100
TZNAME:CET
DTSTART:20241027T010000
END:STANDARD
BEGIN:DAYLIGHT
TZOFFSETFROM:+0100
TZOFFSETTO:+0200
TZNAME:CEST
DTSTART:20250330T010000
END:DAYLIGHT
BEGIN:STANDARD
TZOFFSETFROM:+0200
TZOFFSETTO:+0100
TZNAME:CET
DTSTART:20251026T010000
END:STANDARD
BEGIN:DAYLIGHT
TZOFFSETFROM:+0100
TZOFFSETTO:+0200
TZNAME:CEST
DTSTART:20260329T010000
END:DAYLIGHT
BEGIN:STANDARD
TZOFFSETFROM:+0200
TZOFFSETTO:+0100
TZNAME:CET
DTSTART:20261025T010000
END:STANDARD
END:VTIMEZONE
BEGIN:VEVENT
DTSTART;TZID=Europe/Berlin:20250512T180000
DTEND;TZID=Europe/Berlin:20250512T200000
DTSTAMP:20260425T200655
CREATED:20250507T083950Z
LAST-MODIFIED:20250507T083950Z
UID:17346-1747072800-1747080000@www.asta.uni-siegen.de
SUMMARY:AStA-Sitzung
DESCRIPTION:
URL:https://www.asta.uni-siegen.de/index.php/termin_der_vs/asta-sitzung-30/
LOCATION:https://uni-siegen.webex.com/uni-siegen/j.php?MTID=mb57c7b77d7b1cb13a7d4f1e00b93342c
END:VEVENT
BEGIN:VEVENT
DTSTART;TZID=Europe/Berlin:20250517T100000
DTEND;TZID=Europe/Berlin:20250517T160000
DTSTAMP:20260425T200655
CREATED:20250514T100528Z
LAST-MODIFIED:20250514T100731Z
UID:17380-1747476000-1747497600@www.asta.uni-siegen.de
SUMMARY:Studi-Flohmarkt - student flea market
DESCRIPTION:
URL:https://www.asta.uni-siegen.de/index.php/termin_der_vs/studi-flohmarkt-student-flea-market/
LOCATION:Mensa US
END:VEVENT
BEGIN:VEVENT
DTSTART;TZID=Europe/Berlin:20250519T180000
DTEND;TZID=Europe/Berlin:20250519T200000
DTSTAMP:20260425T200655
CREATED:20250507T084548Z
LAST-MODIFIED:20250507T084548Z
UID:17350-1747677600-1747684800@www.asta.uni-siegen.de
SUMMARY:AStA-Sitzung
DESCRIPTION:
URL:https://www.asta.uni-siegen.de/index.php/termin_der_vs/asta-sitzung-31/
LOCATION:https://uni-siegen.webex.com/uni-siegen/j.php?MTID=mb57c7b77d7b1cb13a7d4f1e00b93342c
END:VEVENT
BEGIN:VEVENT
DTSTART;TZID=Europe/Berlin:20250526T180000
DTEND;TZID=Europe/Berlin:20250526T200000
DTSTAMP:20260425T200655
CREATED:20250507T084818Z
LAST-MODIFIED:20250507T084818Z
UID:17352-1748282400-1748289600@www.asta.uni-siegen.de
SUMMARY:AStA-Sitzung
DESCRIPTION:
URL:https://www.asta.uni-siegen.de/index.php/termin_der_vs/asta-sitzung-32/
LOCATION:https://uni-siegen.webex.com/uni-siegen/j.php?MTID=mb57c7b77d7b1cb13a7d4f1e00b93342c
END:VEVENT
BEGIN:VEVENT
DTSTART;TZID=Europe/Berlin:20250527T181500
DTEND;TZID=Europe/Berlin:20250527T231500
DTSTAMP:20260425T200655
CREATED:20250522T143912Z
LAST-MODIFIED:20250522T150733Z
UID:17416-1748369700-1748387700@www.asta.uni-siegen.de
SUMMARY:10. Sitzung des 51. StuPa
DESCRIPTION:
URL:https://www.asta.uni-siegen.de/index.php/termin_der_vs/10-sitzung-des-51-stupa/
LOCATION:AR-A 1012
END:VEVENT
END:VCALENDAR