BEGIN:VCALENDAR
VERSION:2.0
PRODID:-// - ECPv6.15.20//NONSGML v1.0//EN
CALSCALE:GREGORIAN
METHOD:PUBLISH
X-ORIGINAL-URL:https://www.asta.uni-siegen.de
X-WR-CALDESC:Veranstaltungen für 
REFRESH-INTERVAL;VALUE=DURATION:PT1H
X-Robots-Tag:noindex
X-PUBLISHED-TTL:PT1H
BEGIN:VTIMEZONE
TZID:Europe/Berlin
BEGIN:DAYLIGHT
TZOFFSETFROM:+0100
TZOFFSETTO:+0200
TZNAME:CEST
DTSTART:20240331T010000
END:DAYLIGHT
BEGIN:STANDARD
TZOFFSETFROM:+0200
TZOFFSETTO:+0100
TZNAME:CET
DTSTART:20241027T010000
END:STANDARD
BEGIN:DAYLIGHT
TZOFFSETFROM:+0100
TZOFFSETTO:+0200
TZNAME:CEST
DTSTART:20250330T010000
END:DAYLIGHT
BEGIN:STANDARD
TZOFFSETFROM:+0200
TZOFFSETTO:+0100
TZNAME:CET
DTSTART:20251026T010000
END:STANDARD
BEGIN:DAYLIGHT
TZOFFSETFROM:+0100
TZOFFSETTO:+0200
TZNAME:CEST
DTSTART:20260329T010000
END:DAYLIGHT
BEGIN:STANDARD
TZOFFSETFROM:+0200
TZOFFSETTO:+0100
TZNAME:CET
DTSTART:20261025T010000
END:STANDARD
END:VTIMEZONE
BEGIN:VEVENT
DTSTART;TZID=Europe/Berlin:20251201T180000
DTEND;TZID=Europe/Berlin:20251201T210000
DTSTAMP:20260423T145558
CREATED:20251128T115851Z
LAST-MODIFIED:20251128T115851Z
UID:17663-1764612000-1764622800@www.asta.uni-siegen.de
SUMMARY:AStA-Sitzung
DESCRIPTION:
URL:https://www.asta.uni-siegen.de/index.php/termin_der_vs/asta-sitzung-39/
LOCATION:AStA-Büro (AR-H 105)
END:VEVENT
BEGIN:VEVENT
DTSTART;TZID=Europe/Berlin:20251206T110000
DTEND;TZID=Europe/Berlin:20251206T160000
DTSTAMP:20260423T145558
CREATED:20251128T115648Z
LAST-MODIFIED:20251128T120428Z
UID:17657-1765018800-1765036800@www.asta.uni-siegen.de
SUMMARY:Studi-Flohmarkt im Food Court
DESCRIPTION:
URL:https://www.asta.uni-siegen.de/index.php/termin_der_vs/studi-flohmarkt-2/
LOCATION:Food Court US
END:VEVENT
BEGIN:VEVENT
DTSTART;TZID=Europe/Berlin:20251208T180000
DTEND;TZID=Europe/Berlin:20251208T200000
DTSTAMP:20260423T145558
CREATED:20251128T120305Z
LAST-MODIFIED:20251128T120305Z
UID:17665-1765216800-1765224000@www.asta.uni-siegen.de
SUMMARY:AStA-Sitzung
DESCRIPTION:
URL:https://www.asta.uni-siegen.de/index.php/termin_der_vs/asta-sitzung-40/
LOCATION:https://uni-siegen.webex.com/uni-siegen/j.php?MTID=m86ca61058be53bc715ff9cd70da76302
END:VEVENT
BEGIN:VEVENT
DTSTART;TZID=Europe/Berlin:20251215T180000
DTEND;TZID=Europe/Berlin:20251215T200000
DTSTAMP:20260423T145558
CREATED:20251128T120552Z
LAST-MODIFIED:20251128T120552Z
UID:17668-1765821600-1765828800@www.asta.uni-siegen.de
SUMMARY:Letzte AStA-Sitzung 2025
DESCRIPTION:
URL:https://www.asta.uni-siegen.de/index.php/termin_der_vs/letzte-asta-sitzung-2025/
LOCATION:https://uni-siegen.webex.com/uni-siegen/j.php?MTID=m86ca61058be53bc715ff9cd70da76302
END:VEVENT
END:VCALENDAR